BEGIN:VCALENDAR
VERSION:2.0
PRODID:-//Hokyoji - ECPv6.15.20//NONSGML v1.0//EN
CALSCALE:GREGORIAN
METHOD:PUBLISH
X-WR-CALNAME:Hokyoji
X-ORIGINAL-URL:https://hokyoji.org
X-WR-CALDESC:Events for Hokyoji
REFRESH-INTERVAL;VALUE=DURATION:PT1H
X-Robots-Tag:noindex
X-PUBLISHED-TTL:PT1H
BEGIN:VTIMEZONE
TZID:America/Chicago
BEGIN:DAYLIGHT
TZOFFSETFROM:-0600
TZOFFSETTO:-0500
TZNAME:CDT
DTSTART:20220313T080000
END:DAYLIGHT
BEGIN:STANDARD
TZOFFSETFROM:-0500
TZOFFSETTO:-0600
TZNAME:CST
DTSTART:20221106T070000
END:STANDARD
BEGIN:DAYLIGHT
TZOFFSETFROM:-0600
TZOFFSETTO:-0500
TZNAME:CDT
DTSTART:20230312T080000
END:DAYLIGHT
BEGIN:STANDARD
TZOFFSETFROM:-0500
TZOFFSETTO:-0600
TZNAME:CST
DTSTART:20231105T070000
END:STANDARD
BEGIN:DAYLIGHT
TZOFFSETFROM:-0600
TZOFFSETTO:-0500
TZNAME:CDT
DTSTART:20240310T080000
END:DAYLIGHT
BEGIN:STANDARD
TZOFFSETFROM:-0500
TZOFFSETTO:-0600
TZNAME:CST
DTSTART:20241103T070000
END:STANDARD
END:VTIMEZONE
BEGIN:VEVENT
DTSTART;TZID=America/Chicago:20230601T160000
DTEND;TZID=America/Chicago:20230604T140000
DTSTAMP:20260425T094826
CREATED:20230126T005239Z
LAST-MODIFIED:20230520T190925Z
UID:5380-1685635200-1685887200@hokyoji.org
SUMMARY:Hokyoji's True Heart Women's Retreat
DESCRIPTION:SOLD OUT \n\n\n\n\n\nMeditation\, Movement\, Arts\, & Nature \n\n\n\nPlease join us for this year’s True Heart Women’s Retreat! \n\n\n\nThis year’s Women’s Retreat will take place June 1-4\, 2023. Activities will include regular periods of zazen and group arts activities such as singing\, writing\, and painting. We’ll enjoy delicious vegetarian meals\, mindful outdoor walks\, and yoga. We’ll also have group sharing and discussion. \n\n\n\nThe retreat leaders are Rev. Ekyo Susan Nelson\, Rev. Kyoku Tracey Walen\, and Rev. Myo On Susan Hagler. \n\n\n\nWe look forward to seeing you!
URL:https://hokyoji.org/event/womens-retreat/
END:VEVENT
END:VCALENDAR