BEGIN:VCALENDAR
VERSION:2.0
PRODID:-//Hokyoji - ECPv6.15.20//NONSGML v1.0//EN
CALSCALE:GREGORIAN
METHOD:PUBLISH
X-ORIGINAL-URL:https://hokyoji.org
X-WR-CALDESC:Events for Hokyoji
REFRESH-INTERVAL;VALUE=DURATION:PT1H
X-Robots-Tag:noindex
X-PUBLISHED-TTL:PT1H
BEGIN:VTIMEZONE
TZID:America/Chicago
BEGIN:DAYLIGHT
TZOFFSETFROM:-0600
TZOFFSETTO:-0500
TZNAME:CDT
DTSTART:20230312T080000
END:DAYLIGHT
BEGIN:STANDARD
TZOFFSETFROM:-0500
TZOFFSETTO:-0600
TZNAME:CST
DTSTART:20231105T070000
END:STANDARD
BEGIN:DAYLIGHT
TZOFFSETFROM:-0600
TZOFFSETTO:-0500
TZNAME:CDT
DTSTART:20240310T080000
END:DAYLIGHT
BEGIN:STANDARD
TZOFFSETFROM:-0500
TZOFFSETTO:-0600
TZNAME:CST
DTSTART:20241103T070000
END:STANDARD
BEGIN:DAYLIGHT
TZOFFSETFROM:-0600
TZOFFSETTO:-0500
TZNAME:CDT
DTSTART:20250309T080000
END:DAYLIGHT
BEGIN:STANDARD
TZOFFSETFROM:-0500
TZOFFSETTO:-0600
TZNAME:CST
DTSTART:20251102T070000
END:STANDARD
END:VTIMEZONE
BEGIN:VEVENT
DTSTART;TZID=America/Chicago:20240516T160000
DTEND;TZID=America/Chicago:20240519T130000
DTSTAMP:20260424T174212
CREATED:20240209T185104Z
LAST-MODIFIED:20240228T225445Z
UID:6800-1715875200-1716123600@hokyoji.org
SUMMARY:Hokyoji's True Heart Womens Retreat
DESCRIPTION:This year’s True Heart Women’s Retreat will take place May16-19\, 2024\, Thursday to Sunday. Activities will include regular periods of zazen and creative activities such as writing\, singing and art. We will enjoy nourishing vegetarian meals\, mindful nature walks and yoga.We will have group sharing and discussion. And there will be free time in the afternoon to renew and refresh.We will explore with gentle curiosity who are the True Hearts in our lives. How do we embody our True Heart? And co-create a space to hold people and natural things that express to us individually and collectively the true hearts in our lives.We welcome everyone into this retreat. It will be led by two of Hokyoji’s Associate Teachers. \n\n\n\nRev. Kyoku Tracey Walen began practicing Buddhism in 1998\, was ordained in 2008\, and was given dharma transmission by Byakuren Judith Ragir in 2015. She trained from 2008-2010 at Great Vow Zen Monastery. She also studied Zen sewing with Tomoe Katagiri and became one of her successors. Currently she resides at and supports Hokyoji and also serves as a Zen teacher at Clouds in Water Zen Center in St. Paul\, Minnesota. \n\n\n\nRev. Onryu Kennedy has received transmission in both the Katagiri and Uchiyama Roshi lineage. In 2019 and 2020\, she attended three month practice periods at Toshoji International Zen Center (Japan) and in 2017 at Tassajara Zen Mountain Center (California).  In the Spring 2020 practice period at Toshoji she was Shuso\, head monk for the practice period. She completed zuise in January 2023. And in February 2024 her application for Kokusaifukuyoshi was approved by the Japanese Sotochu. \n\n\n\nThroughout her life she has valued social justice work as an expression of her vow. She is currently an Associate teacher at Hokyoji Zen Practice Community.  She experiences great joy in the opportunity to learn and teach Buddhist practices.
URL:https://hokyoji.org/event/hokyojis-womens-retreat/
END:VEVENT
END:VCALENDAR