BEGIN:VCALENDAR
VERSION:2.0
PRODID:-//Hokyoji - ECPv6.15.20//NONSGML v1.0//EN
CALSCALE:GREGORIAN
METHOD:PUBLISH
X-ORIGINAL-URL:https://hokyoji.org
X-WR-CALDESC:Events for Hokyoji
REFRESH-INTERVAL;VALUE=DURATION:PT1H
X-Robots-Tag:noindex
X-PUBLISHED-TTL:PT1H
BEGIN:VTIMEZONE
TZID:America/Chicago
BEGIN:DAYLIGHT
TZOFFSETFROM:-0600
TZOFFSETTO:-0500
TZNAME:CDT
DTSTART:20230312T080000
END:DAYLIGHT
BEGIN:STANDARD
TZOFFSETFROM:-0500
TZOFFSETTO:-0600
TZNAME:CST
DTSTART:20231105T070000
END:STANDARD
BEGIN:DAYLIGHT
TZOFFSETFROM:-0600
TZOFFSETTO:-0500
TZNAME:CDT
DTSTART:20240310T080000
END:DAYLIGHT
BEGIN:STANDARD
TZOFFSETFROM:-0500
TZOFFSETTO:-0600
TZNAME:CST
DTSTART:20241103T070000
END:STANDARD
BEGIN:DAYLIGHT
TZOFFSETFROM:-0600
TZOFFSETTO:-0500
TZNAME:CDT
DTSTART:20250309T080000
END:DAYLIGHT
BEGIN:STANDARD
TZOFFSETFROM:-0500
TZOFFSETTO:-0600
TZNAME:CST
DTSTART:20251102T070000
END:STANDARD
END:VTIMEZONE
BEGIN:VEVENT
DTSTART;TZID=America/Chicago:20240810T160000
DTEND;TZID=America/Chicago:20240817T130000
DTSTAMP:20260424T132650
CREATED:20240430T201017Z
LAST-MODIFIED:20240715T225728Z
UID:7046-1723305600-1723899600@hokyoji.org
SUMMARY:Jewel Mirror Sesshin
DESCRIPTION:Please join us August 10-17 for Hokyoji’s Jewel Mirror Sesshin. \n\n\n\nHokyoji supports a variety of retreats\, each with its own distinctive practice vision\, perspective\, and teaching style. At the Jewel Mirror Sesshin\, zazen is practiced throughout the day\, interspersed with formal services\, oryoki-style meals\, and a work period each afternoon. Three teachers will present teachings based on a study text; this year\, the text will be the Hōkyō Zanmai\, Jewel Mirror Samadhi. \n\n\n\nThis is a cherished opportunity to cultivate an atmosphere of deep silence and introspection. We look forward to practicing with you. \n\n\n\nRetreat Leaders  \n\n\n\nReirin Alheidis Gumbel has been the Resident Priest at Milwaukee Zen Center since 2015. After many years of being a lay practitioner\, she was trained at the San Francisco Zen Center\, where she lived as a monastic for almost 12 years. She was ordained as a Soto Zen Priest by Furyu Nancy Schroeder in 2007 and received Dharma Transmission in May of 2019. Reirin attempts to be an example for her sangha by maintaining a strong sitting practice and bringing it into the world that so urgently needs the dharma. \n\n\n\nDokai Georgesen started practicing Zen with Dainin Katagiri Roshi in 1974 and was ordained in 1984. He received transmission from Katagiri Roshi in 1989. He is the Guiding Teacher at Hokyoji and has resided there since 2003. He is the current President of the Soto Zen Buddhist Association (SZBA). \n\n\n\nDaigaku Rummé was ordained a Soto monk by Harada Sekkei Roshi in 1978 and trained with him for over 27 years at Hosshinji Monastery in Japan. In 2003 he began working at the Soto Zen Buddhism International Center in San Francisco. He then moved to L.A. in 2010\, where he was Director of the Soto Zen Buddhism North America Office and Head Priest of Zenshuji Soto Temple. In 2015\, he moved to St. Louis and founded Confluence Zen Center where he is the guiding teacher. \n\n\n\nCalligraphy of Hōkyō Zanmai by Daigaku Rummé.
URL:https://hokyoji.org/event/jewel-mirror-sesshin/
END:VEVENT
END:VCALENDAR