BEGIN:VCALENDAR
VERSION:2.0
PRODID:-//Hokyoji - ECPv6.15.20//NONSGML v1.0//EN
CALSCALE:GREGORIAN
METHOD:PUBLISH
X-WR-CALNAME:Hokyoji
X-ORIGINAL-URL:https://hokyoji.org
X-WR-CALDESC:Events for Hokyoji
REFRESH-INTERVAL;VALUE=DURATION:PT1H
X-Robots-Tag:noindex
X-PUBLISHED-TTL:PT1H
BEGIN:VTIMEZONE
TZID:America/Chicago
BEGIN:DAYLIGHT
TZOFFSETFROM:-0600
TZOFFSETTO:-0500
TZNAME:CDT
DTSTART:20230312T080000
END:DAYLIGHT
BEGIN:STANDARD
TZOFFSETFROM:-0500
TZOFFSETTO:-0600
TZNAME:CST
DTSTART:20231105T070000
END:STANDARD
BEGIN:DAYLIGHT
TZOFFSETFROM:-0600
TZOFFSETTO:-0500
TZNAME:CDT
DTSTART:20240310T080000
END:DAYLIGHT
BEGIN:STANDARD
TZOFFSETFROM:-0500
TZOFFSETTO:-0600
TZNAME:CST
DTSTART:20241103T070000
END:STANDARD
BEGIN:DAYLIGHT
TZOFFSETFROM:-0600
TZOFFSETTO:-0500
TZNAME:CDT
DTSTART:20250309T080000
END:DAYLIGHT
BEGIN:STANDARD
TZOFFSETFROM:-0500
TZOFFSETTO:-0600
TZNAME:CST
DTSTART:20251102T070000
END:STANDARD
END:VTIMEZONE
BEGIN:VEVENT
DTSTART;TZID=America/Chicago:20240824T100000
DTEND;TZID=America/Chicago:20240824T170000
DTSTAMP:20260424T132500
CREATED:20240726T201700Z
LAST-MODIFIED:20240726T203728Z
UID:7331-1724493600-1724518800@hokyoji.org
SUMMARY:Ken Keiyu Ford Memorial
DESCRIPTION:Dear Sangha\, \n\n\n\nOn Saturday\, August 24th at 10:00am Hokyoji will ceremonially inter Keiyu Ken Ford’s ashes at the site of Katagiri Roshi’s stupa. The ceremony will be officiated by Rev. Shoken Winecoff\, founding teacher of Ryumonji Zen Monastery\, and Hokyoji’s Guiding Teacher Dokai Georgesen.
URL:https://hokyoji.org/event/kem-keiyu-ford-memorial/
END:VEVENT
END:VCALENDAR