BEGIN:VCALENDAR
VERSION:2.0
PRODID:-//Hokyoji - ECPv6.15.20//NONSGML v1.0//EN
CALSCALE:GREGORIAN
METHOD:PUBLISH
X-WR-CALNAME:Hokyoji
X-ORIGINAL-URL:https://hokyoji.org
X-WR-CALDESC:Events for Hokyoji
REFRESH-INTERVAL;VALUE=DURATION:PT1H
X-Robots-Tag:noindex
X-PUBLISHED-TTL:PT1H
BEGIN:VTIMEZONE
TZID:America/Chicago
BEGIN:DAYLIGHT
TZOFFSETFROM:-0600
TZOFFSETTO:-0500
TZNAME:CDT
DTSTART:20230312T080000
END:DAYLIGHT
BEGIN:STANDARD
TZOFFSETFROM:-0500
TZOFFSETTO:-0600
TZNAME:CST
DTSTART:20231105T070000
END:STANDARD
BEGIN:DAYLIGHT
TZOFFSETFROM:-0600
TZOFFSETTO:-0500
TZNAME:CDT
DTSTART:20240310T080000
END:DAYLIGHT
BEGIN:STANDARD
TZOFFSETFROM:-0500
TZOFFSETTO:-0600
TZNAME:CST
DTSTART:20241103T070000
END:STANDARD
BEGIN:DAYLIGHT
TZOFFSETFROM:-0600
TZOFFSETTO:-0500
TZNAME:CDT
DTSTART:20250309T080000
END:DAYLIGHT
BEGIN:STANDARD
TZOFFSETFROM:-0500
TZOFFSETTO:-0600
TZNAME:CST
DTSTART:20251102T070000
END:STANDARD
END:VTIMEZONE
BEGIN:VEVENT
DTSTART;TZID=America/Chicago:20241114T160000
DTEND;TZID=America/Chicago:20241117T130000
DTSTAMP:20260424T085832
CREATED:20240614T203840Z
LAST-MODIFIED:20240620T184834Z
UID:7191-1731600000-1731848400@hokyoji.org
SUMMARY:Practicing the Ways - Fall Retreat
DESCRIPTION:Practicing the Ways: meeting of Vipassana and Zen \n\n\n\nco-led by Patrice Koelsch and Onryu Kennedy \n\n\n\nThis retreat will explore how these practices intersect and complement each other. Our time together will include succinct investigation of foundation texts\, dharma talks\, guided meditation\, and time for reflection practice. \n\n\n\nRetreat Leaders \n\n\n\nRev. Onryu “GD” Kennedy has received transmission in both the Katagiri and Uchiyama Roshi lineages. In 2019 and 2020\, she attended three-month practice periods at Toshoji International Zen Center (Japan) and in 2017 at Tassajara Zen Mountain Center (California). In the Spring 2020 practice period at Toshoji she was Shuso\, head monk\, for the practice period. She completed zuise in January 2023\, and in February 2024 her application for Kokusaifukuyoshi was approved by the Japanese Sotoshu. \n\n\n\nThroughout her life she has valued social justice work as an expression of her vow. She is currently an Associate Teacher at Hokyoji Zen Practice Community. She experiences great joy in the opportunity to learn and teach Buddhist practices. \n\n\n\nDr. Patrice Koelsch\, Buddhist Chaplain and Common Ground Meditation Center Teacher. Formally trained with a Ph.D. in Philosophy\, Patrice began sitting at Common Ground Meditation Center in 1995. She is a graduate of Spirit Rock’s Community Dharma Leaders Program\, and completed a year-long Buddhist Chaplaincy Training Program at the Sati Center for Buddhist Studies. She has practiced meditation at monasteries in Thailand and Myanmar. Patrice has provided hands-on care for persons in the last stages of HIV/AIDS\, and worked for many years in HIV education and client support services. For more than 2 decades she has been facilitating meditation groups in correctional facilities. She is on the Board of the Minnesota Multifaith Network\, and volunteers  with ISAIAH and Faith in Minnesota to bring about a multicultural democracy\, a caring economy\, and a just climate future. \n\n\n\nPlease email onryukennedy@gmail.com or pckoelsch@yahoo.com with any questions.
URL:https://hokyoji.org/event/practicing-the-way-fall-retreat/
END:VEVENT
END:VCALENDAR