BEGIN:VCALENDAR
VERSION:2.0
PRODID:-//Hokyoji - ECPv6.15.20//NONSGML v1.0//EN
CALSCALE:GREGORIAN
METHOD:PUBLISH
X-WR-CALNAME:Hokyoji
X-ORIGINAL-URL:https://hokyoji.org
X-WR-CALDESC:Events for Hokyoji
REFRESH-INTERVAL;VALUE=DURATION:PT1H
X-Robots-Tag:noindex
X-PUBLISHED-TTL:PT1H
BEGIN:VTIMEZONE
TZID:America/Chicago
BEGIN:DAYLIGHT
TZOFFSETFROM:-0600
TZOFFSETTO:-0500
TZNAME:CDT
DTSTART:20240310T080000
END:DAYLIGHT
BEGIN:STANDARD
TZOFFSETFROM:-0500
TZOFFSETTO:-0600
TZNAME:CST
DTSTART:20241103T070000
END:STANDARD
BEGIN:DAYLIGHT
TZOFFSETFROM:-0600
TZOFFSETTO:-0500
TZNAME:CDT
DTSTART:20250309T080000
END:DAYLIGHT
BEGIN:STANDARD
TZOFFSETFROM:-0500
TZOFFSETTO:-0600
TZNAME:CST
DTSTART:20251102T070000
END:STANDARD
BEGIN:DAYLIGHT
TZOFFSETFROM:-0600
TZOFFSETTO:-0500
TZNAME:CDT
DTSTART:20260308T080000
END:DAYLIGHT
BEGIN:STANDARD
TZOFFSETFROM:-0500
TZOFFSETTO:-0600
TZNAME:CST
DTSTART:20261101T070000
END:STANDARD
END:VTIMEZONE
BEGIN:VEVENT
DTSTART;TZID=America/Chicago:20250809T150000
DTEND;TZID=America/Chicago:20250816T110000
DTSTAMP:20260423T213150
CREATED:20250121T205430Z
LAST-MODIFIED:20250522T154841Z
UID:7735-1754751600-1755342000@hokyoji.org
SUMMARY:Jewel Mirror Sesshin
DESCRIPTION:The theme for this year’s Jewel Mirror Sesshin is “Guidelines for Studying the Way” (Gakudo Yojinshu) by Dogen Zenji.  “Guidelines” is a collection of ten aspects of practice and enlightenment completed in 1234 and often thought of as a companion piece to his “A Universal Recommendation for Zazen” (Fukanzazengi). Fukanzazengi is a shorter work with specific instructions on how to sit in zazen. \n\n\n\n“Guidelines”\, on the other hand\, is a longer piece in which Dogen Zenji expounds on the need to arouse bodhi-mind\, the need for constant practice\, and the need to practice in accordance with the Way among other compelling topics.  \n\n\n\nJoin us this year as Rev. Dokai Georgesen\, Rev. Reirin Gumbel\, and Rev. Daigaku Rummé use this text for the basis of their Dharma talks at this year’s sesshin. \n\n\n\nRegistration fees cover lodging and food. Hokyoji compensates teachers through the dana system. If you would like to contribute\, you may do so before\, at\, or after the retreat. If you would like to donate online\, please click here.
URL:https://hokyoji.org/event/jewel-mirror-sesshin-2/
END:VEVENT
END:VCALENDAR