BEGIN:VCALENDAR
VERSION:2.0
PRODID:-//Hokyoji - ECPv6.15.20//NONSGML v1.0//EN
CALSCALE:GREGORIAN
METHOD:PUBLISH
X-ORIGINAL-URL:https://hokyoji.org
X-WR-CALDESC:Events for Hokyoji
REFRESH-INTERVAL;VALUE=DURATION:PT1H
X-Robots-Tag:noindex
X-PUBLISHED-TTL:PT1H
BEGIN:VTIMEZONE
TZID:America/Chicago
BEGIN:DAYLIGHT
TZOFFSETFROM:-0600
TZOFFSETTO:-0500
TZNAME:CDT
DTSTART:20240310T080000
END:DAYLIGHT
BEGIN:STANDARD
TZOFFSETFROM:-0500
TZOFFSETTO:-0600
TZNAME:CST
DTSTART:20241103T070000
END:STANDARD
BEGIN:DAYLIGHT
TZOFFSETFROM:-0600
TZOFFSETTO:-0500
TZNAME:CDT
DTSTART:20250309T080000
END:DAYLIGHT
BEGIN:STANDARD
TZOFFSETFROM:-0500
TZOFFSETTO:-0600
TZNAME:CST
DTSTART:20251102T070000
END:STANDARD
BEGIN:DAYLIGHT
TZOFFSETFROM:-0600
TZOFFSETTO:-0500
TZNAME:CDT
DTSTART:20260308T080000
END:DAYLIGHT
BEGIN:STANDARD
TZOFFSETFROM:-0500
TZOFFSETTO:-0600
TZNAME:CST
DTSTART:20261101T070000
END:STANDARD
END:VTIMEZONE
BEGIN:VEVENT
DTSTART;TZID=America/Chicago:20251013T183000
DTEND;TZID=America/Chicago:20251103T183000
DTSTAMP:20260423T191119
CREATED:20250829T183950Z
LAST-MODIFIED:20250904T115212Z
UID:8364-1760380200-1762194600@hokyoji.org
SUMMARY:Receiving the Marrow by Bowing - Online Study Group
DESCRIPTION:In this Fall online study group\, we will read and discuss Dogen’s fascicle “Receiving the Marrow by Bowing” (using the translation from “Treasury of the True Dharma Eye: Zen Master Dogen’s Shobo Genzo”  by Kazuaki Tanahashi). Together we’ll sit\, check in with each other\, read aloud\, and discuss how this text connects with our lived experiences.  We can explore what it means to embody his principle “receiving the marrow”  in the hubbub of life. \n\n\n\nAssociate teacher Onryu Kennedy\, Adam Isshin Kokotovich\, Darin Musho Podulke-Smith\, Rachel Seiren Vilsack will be facilitators for this four week study group. We will meet online via Zoom for four Mondays: October 13\, 20\, 27\, and November 3 @ 6:30 – 8:00pm\, Central Time.
URL:https://hokyoji.org/event/receiving-the-marrow-by-bowing-online-study-group/
END:VEVENT
END:VCALENDAR