BEGIN:VCALENDAR
VERSION:2.0
PRODID:-//Hokyoji - ECPv6.15.20//NONSGML v1.0//EN
CALSCALE:GREGORIAN
METHOD:PUBLISH
X-ORIGINAL-URL:https://hokyoji.org
X-WR-CALDESC:Events for Hokyoji
REFRESH-INTERVAL;VALUE=DURATION:PT1H
X-Robots-Tag:noindex
X-PUBLISHED-TTL:PT1H
BEGIN:VTIMEZONE
TZID:America/Chicago
BEGIN:DAYLIGHT
TZOFFSETFROM:-0600
TZOFFSETTO:-0500
TZNAME:CDT
DTSTART:20240310T080000
END:DAYLIGHT
BEGIN:STANDARD
TZOFFSETFROM:-0500
TZOFFSETTO:-0600
TZNAME:CST
DTSTART:20241103T070000
END:STANDARD
BEGIN:DAYLIGHT
TZOFFSETFROM:-0600
TZOFFSETTO:-0500
TZNAME:CDT
DTSTART:20250309T080000
END:DAYLIGHT
BEGIN:STANDARD
TZOFFSETFROM:-0500
TZOFFSETTO:-0600
TZNAME:CST
DTSTART:20251102T070000
END:STANDARD
BEGIN:DAYLIGHT
TZOFFSETFROM:-0600
TZOFFSETTO:-0500
TZNAME:CDT
DTSTART:20260308T080000
END:DAYLIGHT
BEGIN:STANDARD
TZOFFSETFROM:-0500
TZOFFSETTO:-0600
TZNAME:CST
DTSTART:20261101T070000
END:STANDARD
END:VTIMEZONE
BEGIN:VEVENT
DTSTART;TZID=America/Chicago:20251119T150000
DTEND;TZID=America/Chicago:20251123T120000
DTSTAMP:20260423T175238
CREATED:20250415T235538Z
LAST-MODIFIED:20251109T162301Z
UID:8087-1763564400-1763899200@hokyoji.org
SUMMARY:CANCELED - Naturally Awake with Marc Anderson & Milissa Link
DESCRIPTION:Activating our inherent capacity for peace\, playfulness and relationality. \n\n\n\n\n\n\n\nNaturally Awake retreats are both sanctuary and celebration. Together we move through silence and conviviality\, deep introspection and playful expression\, cooperative activity and the non-dual practice of oneness. Exploring the expansiveness of consciousness\, while cultivating the practicality of responsive personhood\, we engage in silent and guided meditation\, movement\, sound healing\, inquiry\, conversation\, cooperative work and creativity. \n\n\n\nCooperation is the activity of the true hearted\, making the world even more perfect for the beautiful ones yet to come. Naturally Awake retreats are welcoming for those relatively new to contemplative practice and deepening for seasoned practitioners. \n\n\n\n\nMarc Anderson is the founder and director of the M2 foundation\, a non-profit organization committed to democratizing access and applicability of all human wisdom that supports optimal well-being. He is an ordained priest in the Soto lineage of Zen Buddhism and has been leading meditation retreats\, trainings and daily sessions for many years. Marc has also received training in Non-Violent Communication and Internal Family Systems Therapy. He is a well-known musician with recording and concert credits across the globe. His current musical interests are focused on the healing power of sound and music through sound baths and improvisational performances. Marc has an academic background in cultural anthropology and is an experienced educator in the fields of music\, spirituality and anthropology. And he is also a poet and released his first collection of poems called “Songs of the Next Future” in 2024.   \n\n\n\n\n\nMilissa Link embodies the wonder and joy of a shared path to awakening. She has co-lead retreats in the Midwest\, the Pacific Northwest and Mexico. She is certified in Spring Forest Qigong\, InterPlay\, Phoenix Rising Yoga Therapy and Craniosacral Therapy. Interweaving somatic modalities with contemplative practices\, Milissa is dedicated to nurturing our collective remembrance of oneness.  \n\n\n\n\nRegistration fees cover lodging and food. Hokyoji compensates teachers through the dana system. If you would like to contribute\, you may do so before\, at\, or after the retreat. If you would like to donate online\, please click here. \n\n\n\nRegistration opens soon!
URL:https://hokyoji.org/event/naturally-awake-with-marc-anderson/
END:VEVENT
END:VCALENDAR