BEGIN:VCALENDAR
VERSION:2.0
PRODID:-//Hokyoji - ECPv6.15.20//NONSGML v1.0//EN
CALSCALE:GREGORIAN
METHOD:PUBLISH
X-WR-CALNAME:Hokyoji
X-ORIGINAL-URL:https://hokyoji.org
X-WR-CALDESC:Events for Hokyoji
REFRESH-INTERVAL;VALUE=DURATION:PT1H
X-Robots-Tag:noindex
X-PUBLISHED-TTL:PT1H
BEGIN:VTIMEZONE
TZID:America/Chicago
BEGIN:DAYLIGHT
TZOFFSETFROM:-0600
TZOFFSETTO:-0500
TZNAME:CDT
DTSTART:20240310T080000
END:DAYLIGHT
BEGIN:STANDARD
TZOFFSETFROM:-0500
TZOFFSETTO:-0600
TZNAME:CST
DTSTART:20241103T070000
END:STANDARD
BEGIN:DAYLIGHT
TZOFFSETFROM:-0600
TZOFFSETTO:-0500
TZNAME:CDT
DTSTART:20250309T080000
END:DAYLIGHT
BEGIN:STANDARD
TZOFFSETFROM:-0500
TZOFFSETTO:-0600
TZNAME:CST
DTSTART:20251102T070000
END:STANDARD
BEGIN:DAYLIGHT
TZOFFSETFROM:-0600
TZOFFSETTO:-0500
TZNAME:CDT
DTSTART:20260308T080000
END:DAYLIGHT
BEGIN:STANDARD
TZOFFSETFROM:-0500
TZOFFSETTO:-0600
TZNAME:CST
DTSTART:20261101T070000
END:STANDARD
END:VTIMEZONE
BEGIN:VEVENT
DTSTART;TZID=America/Chicago:20251219T110000
DTEND;TZID=America/Chicago:20251219T140000
DTSTAMP:20260423T162443
CREATED:20251110T162930Z
LAST-MODIFIED:20251121T150410Z
UID:8604-1766142000-1766152800@hokyoji.org
SUMMARY:Kyoku's Home Leaving Ceremony and Celebration
DESCRIPTION:11am – Noon:  Ceremony and community acknowledgement of Kyoku’s great service on behalf of Hokyoji and community \n\n\n\nNoon-2pm: Light lunch and gathering in Mauss Hall \n\n\n\nWe welcome both online and in-person participation at Hokyoji. For online participation\, please copy and save this Zoom link: https://us02web.zoom.us/j/86468787805?pwd=lVgJLannlOy6fDXXNvAUv0jES4XYKS.1 \n\n\n\nPlease register for in-person participation using the button below. You may register for “Lunch Only” or a Thursday night stay and Lunch on Friday (limited spaces available). People are welcome to bring a dessert or dish to share. Please include this in your registration. \n\n\n\nTo learn more about Kyoku\, click here… \n\n\n\nHokyoji is undergoing construction for the new zendo.
URL:https://hokyoji.org/event/kyokus-home-leaving-ceremony-and-celebration/
END:VEVENT
END:VCALENDAR