BEGIN:VCALENDAR
VERSION:2.0
PRODID:-//Hokyoji - ECPv6.15.20//NONSGML v1.0//EN
CALSCALE:GREGORIAN
METHOD:PUBLISH
X-WR-CALNAME:Hokyoji
X-ORIGINAL-URL:https://hokyoji.org
X-WR-CALDESC:Events for Hokyoji
REFRESH-INTERVAL;VALUE=DURATION:PT1H
X-Robots-Tag:noindex
X-PUBLISHED-TTL:PT1H
BEGIN:VTIMEZONE
TZID:America/Chicago
BEGIN:DAYLIGHT
TZOFFSETFROM:-0600
TZOFFSETTO:-0500
TZNAME:CDT
DTSTART:20250309T080000
END:DAYLIGHT
BEGIN:STANDARD
TZOFFSETFROM:-0500
TZOFFSETTO:-0600
TZNAME:CST
DTSTART:20251102T070000
END:STANDARD
BEGIN:DAYLIGHT
TZOFFSETFROM:-0600
TZOFFSETTO:-0500
TZNAME:CDT
DTSTART:20260308T080000
END:DAYLIGHT
BEGIN:STANDARD
TZOFFSETFROM:-0500
TZOFFSETTO:-0600
TZNAME:CST
DTSTART:20261101T070000
END:STANDARD
BEGIN:DAYLIGHT
TZOFFSETFROM:-0600
TZOFFSETTO:-0500
TZNAME:CDT
DTSTART:20270314T080000
END:DAYLIGHT
BEGIN:STANDARD
TZOFFSETFROM:-0500
TZOFFSETTO:-0600
TZNAME:CST
DTSTART:20271107T070000
END:STANDARD
END:VTIMEZONE
BEGIN:VEVENT
DTSTART;TZID=America/Chicago:20260114T183000
DTEND;TZID=America/Chicago:20260114T200000
DTSTAMP:20260423T145354
CREATED:20250929T132351Z
LAST-MODIFIED:20251213T150322Z
UID:8483-1768415400-1768420800@hokyoji.org
SUMMARY:Zen and the Roman Emperor
DESCRIPTION:Zen and the Roman Emperor: Marcus Aurelius\, Journaling\, and Stoicism for the Zen Practitioner \n\n\n\nOnline. Alternating Wednesdays from January 14 – March 25\, 2026 (1/14\, 1/28\, 2/4*\, 2/25\, 3/11\, 3/25) from 6:30-8p CT. \n\n\n\n\n\n\n\nThis winter you are invited to join the inaugural offering for the Men’s Study Group at Hokyoji. Over the course of 3 months\, we will read Marcus Aurelius’ Meditations and look at the Stoicism\, Zen\, and their intersection\, through various journaling practices (no\, not “dear diary!”). \n\n\n\nMarcus Aurelius was one of the Five Good Emperors (out of 82 and a 500 year span). He as an avowed Stoic\, a school of philosophy founded by Zeno of Citium in 300 BCE. It had counted everyone from slaves to emperors amongst its contributors. Stoicism had a profound influence on St. Augustine and therefore Christianity. \n\n\n\nZen has its roots in China\, with the arrival of Bodhidharma (d. 530 CE) from India during the Northern & Southern Dynasties period. It further developed throughout the Sui & Tang Dynasties\, the Five Dynasties Period\, and reached its zenith during the Song Dynasty. Dogen Zenji (1200-1253 CE) brought Chan to Japan from Song China in 1228 founded the Soto School of Zen Buddhism. \n\n\n\nAt first blush\, it doesn’t seem like these two traditions would have anything in common but over the course of the study group we hope to demonstrate that they do and that Stoicism can help Zen practitioners and Zen can help Stoics. \n\n\n\nMain text – Meditations by Marcus Aurelius\, translated by Gregory Hays\, Forward by Ryan Holiday. You need not purchase the book through Amazon. You will also need a notebook. It can be as nice as you like but not so nice you don’t want to write in it… \n\n\n\nThe group will be led by Rev. Jushin Stephyn Butcher\, Associate Teacher. Questions? reach out to Jushin through the contact page.
URL:https://hokyoji.org/event/zen-and-the-roman-emperor-2/
END:VEVENT
END:VCALENDAR