BEGIN:VCALENDAR
VERSION:2.0
PRODID:-//Hokyoji - ECPv6.15.20//NONSGML v1.0//EN
CALSCALE:GREGORIAN
METHOD:PUBLISH
X-ORIGINAL-URL:https://hokyoji.org
X-WR-CALDESC:Events for Hokyoji
REFRESH-INTERVAL;VALUE=DURATION:PT1H
X-Robots-Tag:noindex
X-PUBLISHED-TTL:PT1H
BEGIN:VTIMEZONE
TZID:America/Chicago
BEGIN:DAYLIGHT
TZOFFSETFROM:-0600
TZOFFSETTO:-0500
TZNAME:CDT
DTSTART:20250309T080000
END:DAYLIGHT
BEGIN:STANDARD
TZOFFSETFROM:-0500
TZOFFSETTO:-0600
TZNAME:CST
DTSTART:20251102T070000
END:STANDARD
BEGIN:DAYLIGHT
TZOFFSETFROM:-0600
TZOFFSETTO:-0500
TZNAME:CDT
DTSTART:20260308T080000
END:DAYLIGHT
BEGIN:STANDARD
TZOFFSETFROM:-0500
TZOFFSETTO:-0600
TZNAME:CST
DTSTART:20261101T070000
END:STANDARD
BEGIN:DAYLIGHT
TZOFFSETFROM:-0600
TZOFFSETTO:-0500
TZNAME:CDT
DTSTART:20270314T080000
END:DAYLIGHT
BEGIN:STANDARD
TZOFFSETFROM:-0500
TZOFFSETTO:-0600
TZNAME:CST
DTSTART:20271107T070000
END:STANDARD
END:VTIMEZONE
BEGIN:VEVENT
DTSTART;TZID=America/Chicago:20261016T120000
DTEND;TZID=America/Chicago:20261018T100000
DTSTAMP:20260423T192814
CREATED:20260106T194958Z
LAST-MODIFIED:20260106T195000Z
UID:8887-1792152000-1792317600@hokyoji.org
SUMMARY:Caring for the Land - Fall
DESCRIPTION:TBD
URL:https://hokyoji.org/event/caring-for-the-land-fall/
END:VEVENT
BEGIN:VEVENT
DTSTART;TZID=America/Chicago:20261020T150000
DTEND;TZID=America/Chicago:20261025T100000
DTSTAMP:20260423T192814
CREATED:20260106T195056Z
LAST-MODIFIED:20260106T195058Z
UID:8889-1792508400-1792922400@hokyoji.org
SUMMARY:Just Sitting Retreat - Fall
DESCRIPTION:TBD
URL:https://hokyoji.org/event/just-sitting-retreat-fall-2/
END:VEVENT
BEGIN:VEVENT
DTSTART;TZID=America/Chicago:20261112T150000
DTEND;TZID=America/Chicago:20261115T100000
DTSTAMP:20260423T192814
CREATED:20260106T195136Z
LAST-MODIFIED:20260106T195153Z
UID:8891-1794495600-1794736800@hokyoji.org
SUMMARY:Practicing the Ways Retreat
DESCRIPTION:TBD
URL:https://hokyoji.org/event/practicing-the-ways-retreat/
END:VEVENT
BEGIN:VEVENT
DTSTART;TZID=America/Chicago:20261130T150000
DTEND;TZID=America/Chicago:20261206T100000
DTSTAMP:20260423T192814
CREATED:20260106T195244Z
LAST-MODIFIED:20260106T195245Z
UID:8893-1796050800-1796551200@hokyoji.org
SUMMARY:Rohatsu Sesshin 2026
DESCRIPTION:TBD
URL:https://hokyoji.org/event/rohatsu-sesshin-2026/
END:VEVENT
END:VCALENDAR