BEGIN:VCALENDAR
VERSION:2.0
PRODID:-//Hokyoji - ECPv6.15.20//NONSGML v1.0//EN
CALSCALE:GREGORIAN
METHOD:PUBLISH
X-ORIGINAL-URL:https://hokyoji.org
X-WR-CALDESC:Events for Hokyoji
REFRESH-INTERVAL;VALUE=DURATION:PT1H
X-Robots-Tag:noindex
X-PUBLISHED-TTL:PT1H
BEGIN:VTIMEZONE
TZID:America/Chicago
BEGIN:DAYLIGHT
TZOFFSETFROM:-0600
TZOFFSETTO:-0500
TZNAME:CDT
DTSTART:20210314T080000
END:DAYLIGHT
BEGIN:STANDARD
TZOFFSETFROM:-0500
TZOFFSETTO:-0600
TZNAME:CST
DTSTART:20211107T070000
END:STANDARD
BEGIN:DAYLIGHT
TZOFFSETFROM:-0600
TZOFFSETTO:-0500
TZNAME:CDT
DTSTART:20220313T080000
END:DAYLIGHT
BEGIN:STANDARD
TZOFFSETFROM:-0500
TZOFFSETTO:-0600
TZNAME:CST
DTSTART:20221106T070000
END:STANDARD
BEGIN:DAYLIGHT
TZOFFSETFROM:-0600
TZOFFSETTO:-0500
TZNAME:CDT
DTSTART:20230312T080000
END:DAYLIGHT
BEGIN:STANDARD
TZOFFSETFROM:-0500
TZOFFSETTO:-0600
TZNAME:CST
DTSTART:20231105T070000
END:STANDARD
BEGIN:DAYLIGHT
TZOFFSETFROM:-0600
TZOFFSETTO:-0500
TZNAME:CDT
DTSTART:20240310T080000
END:DAYLIGHT
BEGIN:STANDARD
TZOFFSETFROM:-0500
TZOFFSETTO:-0600
TZNAME:CST
DTSTART:20241103T070000
END:STANDARD
END:VTIMEZONE
BEGIN:VEVENT
DTSTART;TZID=America/Chicago:20230819T160000
DTEND;TZID=America/Chicago:20230826T130000
DTSTAMP:20260423T162729
CREATED:20230126T012325Z
LAST-MODIFIED:20230627T193713Z
UID:5388-1692460800-1693054800@hokyoji.org
SUMMARY:Hokyoji's Jewel Mirror Sesshin
DESCRIPTION:Please join us August 19-26 for Hokyoji’s Jewel Mirror Sesshin. \n\n\n\nThe text we’ll be studying this year is Hōkyō Zanmai\, Jewel Mirror Awareness\, traditionally associated with the 9th-century Chinese founder of the Caodong School\, Dongshan Liangjie (J. Tōzan Ryōkai). The term Hōkyō in Hōkyō Zanmai\, 宝鏡三昧\, is the same as that in Hokyoji’s name\, 宝鏡寺\, Jewel Mirror Temple. \n\n\n\nRetreat Leaders  \n\n\n\nReirin Alheidis Gumbel has been the Resident Priest at Milwaukee Zen Center since 2015. After many years of being a lay practitioner\, she was trained at the San Francisco Zen Center\, where she lived as a monastic for almost 12 years. She was ordained as a Soto Zen Priest by Furyu Nancy Schroeder in 2007 and received Dharma Transmission in May of 2019. Reirin attempts to be an example for her sangha by maintaining a strong sitting practice and bringing it into the world that so urgently needs the dharma. \n\n\n\nDokai Georgesen began his Zen study at Minnesota Zen Meditation Center with Katagiri Roshi in 1974. He went on a 2-year pilgrimage studying Buddhism in India and Japan. Upon returning\, he lived at Hokyoji until his ordination in 1984. He received Dharma Transmission from Katagiri Roshi in 1989. Since then he’s traveled to Japan several times to practice with Ikko Narasaki Roshi\, Tsugen Narasaki Roshi\, and Maezumi Roshi. Dokai serves as board president of the Soto Zen Buddhist Association. He currently divides his time between Hokyoji and an apartment in La Crosse\, Wisconsin. He has been Hokyoji’s guiding teacher since 2007. \n\n\n\nDaigaku Rummé was ordained a Soto monk by Harada Sekkei Roshi in 1978 and trained with him for over 27 years at Hosshinji Monastery in Japan. In 2003 he began working at the Soto Zen Buddhism International Center in San Francisco. He then moved to L.A. in 2010\, where he was Director of the Soto Zen Buddhism North America Office and Head Priest of Zenshuji Soto Temple. In 2015\, he moved to St. Louis and founded Confluence Zen Center where he is the guiding teacher. \n\n\n\nSeated left to right: Reirin Gumbel\, Dokai Georgesen\, Daigaku Rummé. Photo courtesy David Brus.
URL:https://hokyoji.org/event/hokyojis-jewel-mirror-sesshin-2/
END:VEVENT
BEGIN:VEVENT
DTSTART;TZID=America/Chicago:20230811T080000
DTEND;TZID=America/Chicago:20230813T170000
DTSTAMP:20260423T162729
CREATED:20230512T151831Z
LAST-MODIFIED:20230708T160410Z
UID:5571-1691740800-1691946000@hokyoji.org
SUMMARY:Hokyoji Family Weekend
DESCRIPTION:Enjoy kid-friendly activities\, great food\, and Hokyoji’s wide open spaces. \n\n\n\nHere is a tentative schedule of events for the weekend: \n\n\n\nFriday3:00pm – Arrivals & Settling In6:00pm – Dinner7:00pm – Introduction to Hokyoji & Meditation in the Zendo (15 minutes for kids\, 40 minutes for adults) \n\n\n\nSaturday7:30am – Meditation in the Zendo\, Morning service8:15am – Breakfast10:00am – Mindfulness Walk or Qigong with Ann12:30pm – Lunch1:00-3:00pm – Free Time / Kiddie Pool3:00pm – Yoga in the Zendo / Kids Activity & Snacks Served at Picnic Tables5:30pm – Dinner6:30pm – Meditation in the Zendo (15 minutes for kids\, 40 minutes for adults)7:30pm – Bonfire / Music / Sing-alongs / S’mores \n\n\n\nSunday7:30am – Meditation in the Zendo\, Morning service8:30am – Breakfast10:00am – Ceremony at the Stupa12:30pm – Lunch1:00pm – Free Time / Cleaning & Packing \n\n\n\nThe recommended donation is $30.00 per day\, per adult\, with $60.00-$65.00 for the weekend.
URL:https://hokyoji.org/event/hokyoji-family-weekend/
END:VEVENT
BEGIN:VEVENT
DTSTART;TZID=America/Chicago:20230717T160000
DTEND;TZID=America/Chicago:20230723T140000
DTSTAMP:20260423T162729
CREATED:20230126T012209Z
LAST-MODIFIED:20230126T012210Z
UID:5386-1689609600-1690120800@hokyoji.org
SUMMARY:Clouds in Water Zen Center Sesshin
DESCRIPTION:Please contact CiWZC for more information: https://cloudsinwater.org/
URL:https://hokyoji.org/event/clouds-in-water-zen-center-sesshin-3/
END:VEVENT
BEGIN:VEVENT
DTSTART;TZID=America/Chicago:20230608T160000
DTEND;TZID=America/Chicago:20230611T140000
DTSTAMP:20260423T162729
CREATED:20230126T011152Z
LAST-MODIFIED:20230126T011152Z
UID:5382-1686240000-1686492000@hokyoji.org
SUMMARY:Loring Group
DESCRIPTION:
URL:https://hokyoji.org/event/loring-group/
END:VEVENT
BEGIN:VEVENT
DTSTART;TZID=America/Chicago:20230601T160000
DTEND;TZID=America/Chicago:20230604T140000
DTSTAMP:20260423T162729
CREATED:20230126T005239Z
LAST-MODIFIED:20230520T190925Z
UID:5380-1685635200-1685887200@hokyoji.org
SUMMARY:Hokyoji's True Heart Women's Retreat
DESCRIPTION:SOLD OUT \n\n\n\n\n\nMeditation\, Movement\, Arts\, & Nature \n\n\n\nPlease join us for this year’s True Heart Women’s Retreat! \n\n\n\nThis year’s Women’s Retreat will take place June 1-4\, 2023. Activities will include regular periods of zazen and group arts activities such as singing\, writing\, and painting. We’ll enjoy delicious vegetarian meals\, mindful outdoor walks\, and yoga. We’ll also have group sharing and discussion. \n\n\n\nThe retreat leaders are Rev. Ekyo Susan Nelson\, Rev. Kyoku Tracey Walen\, and Rev. Myo On Susan Hagler. \n\n\n\nWe look forward to seeing you!
URL:https://hokyoji.org/event/womens-retreat/
END:VEVENT
BEGIN:VEVENT
DTSTART;TZID=America/Chicago:20230521T160000
DTEND;TZID=America/Chicago:20230528T140000
DTSTAMP:20260423T162729
CREATED:20230126T005058Z
LAST-MODIFIED:20230215T181757Z
UID:5378-1684684800-1685282400@hokyoji.org
SUMMARY:Just Sitting Retreat- May
DESCRIPTION:Please join us in an evolving retreat format—an experiment in dedicated mindful meditationwithin an environment of deep silence. A sitting schedule and silence are the bones of the retreat.There are no services\, dharma talks\, interviews with a teacher\, formal meals or work periods.Meals\, silence\, sitting and sleep are the support for individual and collective mindful practice.That said\, participants are free to practice as they see fit\, augmenting their day with walks\, naps\,bird watching\, botanizing\, looking…meeting one’s needs mindfully as retreat activity. \n\n\n\nAll participants should have experience sitting multi-day mindfulness retreats or sesshins. \n\n\n\nFull retreat (6+ days/7nights) $590
URL:https://hokyoji.org/event/just-sitting-retreat-may/
END:VEVENT
BEGIN:VEVENT
DTSTART;TZID=America/Chicago:20230427T160000
DTEND;TZID=America/Chicago:20230430T140000
DTSTAMP:20260423T162729
CREATED:20230126T004405Z
LAST-MODIFIED:20230126T004406Z
UID:5371-1682611200-1682863200@hokyoji.org
SUMMARY:Clouds in Water Zen Center Sesshin
DESCRIPTION:Please contact CiWZC for more information: https://cloudsinwater.org/
URL:https://hokyoji.org/event/clouds-in-water-zen-center-sesshin-2/
END:VEVENT
BEGIN:VEVENT
DTSTART;TZID=America/Chicago:20230420T160000
DTEND;TZID=America/Chicago:20230423T140000
DTSTAMP:20260423T162729
CREATED:20230126T004005Z
LAST-MODIFIED:20230201T193027Z
UID:5368-1682006400-1682258400@hokyoji.org
SUMMARY:Healing Retreat
DESCRIPTION:Private Tai Chi/Yoga Retreat
URL:https://hokyoji.org/event/healing-retreat/
END:VEVENT
BEGIN:VEVENT
DTSTART;TZID=America/Chicago:20230414T160000
DTEND;TZID=America/Chicago:20230416T130000
DTSTAMP:20260423T162729
CREATED:20230125T172041Z
LAST-MODIFIED:20230204T151730Z
UID:5364-1681488000-1681650000@hokyoji.org
SUMMARY:Work Weekend
DESCRIPTION:
URL:https://hokyoji.org/event/work-weekend-2/
END:VEVENT
BEGIN:VEVENT
DTSTART;TZID=America/Chicago:20230130T160000
DTEND;TZID=America/Chicago:20230219T130000
DTSTAMP:20260423T162729
CREATED:20220627T171805Z
LAST-MODIFIED:20230112T103523Z
UID:4885-1675094400-1676811600@hokyoji.org
SUMMARY:Hokyoji's Winter Practice Period
DESCRIPTION:“Just Put It Down” \n\n\n\nThe first two weeks include study meetings (chosan). The practice theme\, “Just Put It Down\,” is taken from Glen Wallis’s commentary on the Bhāra Sutta. See chapter 8 of his book Basic Teachings of the Buddha. \n\n\n\nThe third week is a sesshin. \n\n\n\nRetreat Leader \n\n\n\nDokai Georgesen began his Zen study at Minnesota Zen Meditation Center with Katagiri Roshi in 1974. He went on a 2-year pilgrimage studying Buddhism in India and Japan. Upon returning\, he lived at Hokyoji until his ordination in 1984. He received Dharma Transmission from Katagiri Roshi in 1989. Since then he’s traveled to Japan several times to practice with Ikko Narasaki Roshi\, Tsugen Narasaki Roshi\, and Maezumi Roshi. Dokai serves as board president of the Soto Zen Buddhist Association (SZBA). Currently\, his time is divided between residing at Hokyoji and an apartment in La Crosse\, WI. He has been Hokyoji’s guiding teacher since 2007. \n\n\n\nDetails \n\n\n\nPlease help us maintain a healthy practice environment by observing Hokyoji’s Covid Guidelines. \n\n\n\nParticipants may register for the first\, second\, or third week only\, or for the entire three-week period. Ordained participants who attend the entire practice period may receive credit toward the SZBA’s ango requirement. Please contact hokyoji@hokyoji.org for more information. \n\n\n\nZoom participation is also available; it is based on dana or generosity.
URL:https://hokyoji.org/event/hokyojis-winter-practice-period/
END:VEVENT
BEGIN:VEVENT
DTSTART;TZID=America/Chicago:20221203T160000
DTEND;TZID=America/Chicago:20221210T130000
DTSTAMP:20260423T162729
CREATED:20220627T171645Z
LAST-MODIFIED:20221025T152743Z
UID:4883-1670083200-1670677200@hokyoji.org
SUMMARY:Hokyoji's Rohatsu Sesshin
DESCRIPTION:You Are the Life of Buddha \n\n\n\nRohatsu’s beauty lies in the quiet\, cold\, dark time of year in which it rests. Its focus is on Buddha’s liberation at the rising of the morning star on Dec. 8th. Together\, we lean into the freedom that the Buddha realized. And how is it that we can take up this quest? Buddha’s suffering and confusion was exactly the same as ours; thus our liberation is exactly Buddha’s. Without us\, no liberation. Without Buddha\, no liberation.   \n\n\n\nPlease join together for this silent week in which we will support each other in touching the depth of suffering and the depth of release. \n\n\n\nRetreat Leaders \n\n\n\nRev. Kyoku Tracey Walen was ordained in 2008 and given Dharma transmission by Byakuren Judith Ragir in 2015. Her training included three years at Great Vow Zen Monastery and study with Thich Nhat Hanh at Plum Village. She lives at Hokyoji where she is a staff member and is also a teacher at Clouds in Water Zen Center in St. Paul\, Minnesota. \n\n\n\nRev. Myo-O Habermas-Scher practiced with Katagiri Roshi from 1975 until his death in 1990; she also trained for twelve years in the Vipassana tradition. She received Dharma transmission in 2012 from Dokai at Hokyoji. Myo-O is a master movement teacher and teaches somatically based vocal training. In 2021 she retired after fourteen years as an interfaith staff chaplain at the University of Minnesota Medical Center\, MHealth Fairview. She is also a mom and a grandmother to two little grandsons. \n\n\n\nDetails \n\n\n\nIn-person and Zoom options are available. If you choose the Zoom option\, we ask that you commit to the full sesshin schedule.  \n\n\n\nPlease help us maintain a healthy practice environment by observing Hokyoji’s Covid Guidelines.
URL:https://hokyoji.org/event/hokyojis-rohatsu-sesshin/
END:VEVENT
BEGIN:VEVENT
DTSTART;TZID=America/Chicago:20221118T160000
DTEND;TZID=America/Chicago:20221120T130000
DTSTAMP:20260423T162729
CREATED:20220823T133627Z
LAST-MODIFIED:20220907T203957Z
UID:5032-1668787200-1668949200@hokyoji.org
SUMMARY:Work Weekend
DESCRIPTION:When the weather begins to change\, it’s time to take care of Hokyoji and prepare it for the season ahead. Fall means putting things away for a time of rest. Work days include morning and evening sitting practice\, communal meals\, and a variety of work projects\, both indoors and out. In addition to being a terrific opportunity for mindful activity\, it’s a good chance to visit Hokyoji\, meet others in the community\, and get to know what happens here.
URL:https://hokyoji.org/event/work-weekend/
END:VEVENT
BEGIN:VEVENT
DTSTART;TZID=America/Chicago:20221111T120000
DTEND;TZID=America/Chicago:20221113T140000
DTSTAMP:20260423T162729
CREATED:20220818T125114Z
LAST-MODIFIED:20220818T125114Z
UID:5018-1668168000-1668348000@hokyoji.org
SUMMARY:Healing Retreat - November
DESCRIPTION:
URL:https://hokyoji.org/event/healing-retreat-november/
END:VEVENT
BEGIN:VEVENT
DTSTART;TZID=America/Chicago:20221101T160000
DTEND;TZID=America/Chicago:20221106T170000
DTSTAMP:20260423T162729
CREATED:20220706T172726Z
LAST-MODIFIED:20220708T203517Z
UID:4919-1667318400-1667754000@hokyoji.org
SUMMARY:Just Sitting Retreat - November
DESCRIPTION:
URL:https://hokyoji.org/event/just-sitting-retreat-fall/
END:VEVENT
BEGIN:VEVENT
DTSTART;TZID=America/Chicago:20221021T160000
DTEND;TZID=America/Chicago:20221023T160000
DTSTAMP:20260423T162729
CREATED:20220830T135218Z
LAST-MODIFIED:20220913T131211Z
UID:5044-1666368000-1666540800@hokyoji.org
SUMMARY:Caring for the Land
DESCRIPTION:As part of our Land Management Plan\, each fall we pay special attention to the needs of the land\, clearing trails\, brush\, and deadfall\, reducing invasive pants\, or planting new growth. The work involves hand and power tools as well as our tractor. There is work for all levels of skill and strength. Please join with us in tending to Hokyoji’s beautiful natural setting and realizing our long-term vision for the land.
URL:https://hokyoji.org/event/caring-for-the-land/
END:VEVENT
BEGIN:VEVENT
DTSTART;TZID=America/Chicago:20220920T080000
DTEND;TZID=America/Chicago:20220925T170000
DTSTAMP:20260423T162729
CREATED:20220627T165300Z
LAST-MODIFIED:20220706T181614Z
UID:4879-1663660800-1664125200@hokyoji.org
SUMMARY:Minnesota Zen Meditation Center Retreat
DESCRIPTION:A contemporary style retreat\, please contact MZMC for more information: https://www.mzmc.org/
URL:https://hokyoji.org/event/minnesota-zen-meditation-center-retreat/
END:VEVENT
BEGIN:VEVENT
DTSTART;TZID=America/Chicago:20220829T080000
DTEND;TZID=America/Chicago:20220905T170000
DTSTAMP:20260423T162729
CREATED:20220627T164821Z
LAST-MODIFIED:20220706T181523Z
UID:4876-1661760000-1662397200@hokyoji.org
SUMMARY:Compassionate Ocean Zen Center
DESCRIPTION:Retreat and Weekend Sesshin\, please contact Compassionate Ocean: https://www.oceanzen.org/
URL:https://hokyoji.org/event/compassionate-ocean-zen-center/
END:VEVENT
BEGIN:VEVENT
DTSTART;TZID=America/Chicago:20220826T120000
DTEND;TZID=America/Chicago:20220828T140000
DTSTAMP:20260423T162729
CREATED:20220708T210014Z
LAST-MODIFIED:20220709T153715Z
UID:4941-1661515200-1661695200@hokyoji.org
SUMMARY:The Healing Retreat
DESCRIPTION:Private Tai Chi/Yoga Retreat
URL:https://hokyoji.org/event/the-healing-retreat/
END:VEVENT
BEGIN:VEVENT
DTSTART;TZID=America/Chicago:20220813T160000
DTEND;TZID=America/Chicago:20220820T120000
DTSTAMP:20260423T162729
CREATED:20220620T181133Z
LAST-MODIFIED:20220806T131440Z
UID:4829-1660406400-1660996800@hokyoji.org
SUMMARY:Hokyoji's Jewel Mirror Sesshin-SOLD OUT Please email - hokyoji@hokyoji.org
DESCRIPTION:At this year’s Jewel Mirror Sesshin Daigaku\, Reirin\, and Dokai will explore the question “What is Zazen?” This is an in-person only retreat\, Saturday 8/13 – Saturday 8/20.  \n\n\n\nPlease register at the bottom of the page. \n\n\n\nDokai Georgesen began his Zen study at MN Zen Meditation Center with Katagiri- Roshi in 1974. He went on a 2-year pilgrimage studying Buddhism in India and Japan. Upon returning\, he lived at Hokyoji until his ordination in 1984. He received Dharma Transmission from Katagiri Roshi in 1989. Since then he’s traveled to Japan several times to practice with Ikko Narasaki Roshi\, Tsugen Narasaki Roshi and Maezumi Roshi. Dokai serves on the Soto Zen Buddhist Association’s board of directors as treasurer. Currently\, his time is divided between residing at Hokyoji and an apartment in La Crosse\, WI. He has been Hokyoji’s guiding teacher since 2007. \n\n\n\nReirin Alheidis Gumbel has been the Resident Priest at Milwaukee Zen Center since 2015. After many years of being a lay practitioner\, she was trained at the San Francisco Zen Center\, where she lived as a monastic for almost 12 years. She was ordained as a Soto Zen Priest by Furyu Nancy Schroeder in 2007 and received Dharma Transmission in May of 2019. Reirin attempts to be an example for her sangha by maintaining a strong sitting practice and bringing it into the world that so urgently needs the dharma. \n\n\n\nDaigaku Rummé was ordained a Soto monk by Harada Sekkei Roshi in 1978\, he trained with him for over 27 years at Hosshinji Monastery in Japan. In 2003 he began working at the Soto Zen Buddhism International Center in San Francisco. He then moved to L. A. in 2010\, where he was Director of the Soto Zen Buddhism N. America Office and as the Head Priest of Zenshuji Soto Temple. In 2015\, he moved to St. Louis and founded Confluence Zen Center where he is the guiding teacher. \n\n\n\nA typical schedule is as follows: \n\n\n\n6:30 Zazen7:05 Kinhin7:20 Zazen7:55 Liturgy8:15 Breakfast/Break9:30 Zazen10:00 Kinhin10:15 Dharma Talk10:50 Break11:20 Zazen11:55 Liturgy12:15 Lunch2:30 Zazen3:05 Kinhin3:20 Zazen3:55 Break4:30 Zazen5:05 Liturgy5:20 Supper/Break6:45 Zazen7:15 Kinhin7:25 Zazen8:05 Kinhin8:20 Zazen8:45 Fukanzazengi9:00 Evening message & Bows
URL:https://hokyoji.org/event/hokyojis-jewel-mirror-sesshin/
END:VEVENT
BEGIN:VEVENT
DTSTART;TZID=America/Chicago:20220805T160000
DTEND;TZID=America/Chicago:20220807T120000
DTSTAMP:20260423T162729
CREATED:20220620T160816Z
LAST-MODIFIED:20220718T194426Z
UID:4808-1659715200-1659873600@hokyoji.org
SUMMARY:Hokyoji's Family and Community Weekend
DESCRIPTION:This is a weekend to share Hokyoji’s beauty with friends and family — all ages are welcome. There will be many options for adults and children: nature walks\, meditation\, story times\, yoga\, a kiddie-pool\, communal meals\, singing\, and a Saturday night cookout and campfire.
URL:https://hokyoji.org/event/family-and-community-weekend/
END:VEVENT
BEGIN:VEVENT
DTSTART;TZID=America/Chicago:20220711T080000
DTEND;TZID=America/Chicago:20220717T170000
DTSTAMP:20260423T162729
CREATED:20220627T140516Z
LAST-MODIFIED:20220706T181332Z
UID:4873-1657526400-1658077200@hokyoji.org
SUMMARY:Clouds in Water Zen Center Sesshin
DESCRIPTION:Please contact CiWZC for more information: https://cloudsinwater.org/
URL:https://hokyoji.org/event/clouds-in-water-zen-center-sesshin/
END:VEVENT
BEGIN:VEVENT
DTSTART;TZID=America/Chicago:20220625T130000
DTEND;TZID=America/Chicago:20220625T150000
DTSTAMP:20260423T162729
CREATED:20220620T160436Z
LAST-MODIFIED:20220620T160437Z
UID:4806-1656162000-1656169200@hokyoji.org
SUMMARY:Annual Meeting
DESCRIPTION:
URL:https://hokyoji.org/event/annual-meeting/
END:VEVENT
END:VCALENDAR