BEGIN:VCALENDAR
VERSION:2.0
PRODID:-//Hokyoji - ECPv6.15.20//NONSGML v1.0//EN
CALSCALE:GREGORIAN
METHOD:PUBLISH
X-WR-CALNAME:Hokyoji
X-ORIGINAL-URL:https://hokyoji.org
X-WR-CALDESC:Events for Hokyoji
REFRESH-INTERVAL;VALUE=DURATION:PT1H
X-Robots-Tag:noindex
X-PUBLISHED-TTL:PT1H
BEGIN:VTIMEZONE
TZID:America/Chicago
BEGIN:DAYLIGHT
TZOFFSETFROM:-0600
TZOFFSETTO:-0500
TZNAME:CDT
DTSTART:20210314T080000
END:DAYLIGHT
BEGIN:STANDARD
TZOFFSETFROM:-0500
TZOFFSETTO:-0600
TZNAME:CST
DTSTART:20211107T070000
END:STANDARD
BEGIN:DAYLIGHT
TZOFFSETFROM:-0600
TZOFFSETTO:-0500
TZNAME:CDT
DTSTART:20220313T080000
END:DAYLIGHT
BEGIN:STANDARD
TZOFFSETFROM:-0500
TZOFFSETTO:-0600
TZNAME:CST
DTSTART:20221106T070000
END:STANDARD
BEGIN:DAYLIGHT
TZOFFSETFROM:-0600
TZOFFSETTO:-0500
TZNAME:CDT
DTSTART:20230312T080000
END:DAYLIGHT
BEGIN:STANDARD
TZOFFSETFROM:-0500
TZOFFSETTO:-0600
TZNAME:CST
DTSTART:20231105T070000
END:STANDARD
END:VTIMEZONE
BEGIN:VEVENT
DTSTART;TZID=America/Chicago:20221203T160000
DTEND;TZID=America/Chicago:20221210T130000
DTSTAMP:20260425T161915
CREATED:20220627T171645Z
LAST-MODIFIED:20221025T152743Z
UID:4883-1670083200-1670677200@hokyoji.org
SUMMARY:Hokyoji's Rohatsu Sesshin
DESCRIPTION:You Are the Life of Buddha \n\n\n\nRohatsu’s beauty lies in the quiet\, cold\, dark time of year in which it rests. Its focus is on Buddha’s liberation at the rising of the morning star on Dec. 8th. Together\, we lean into the freedom that the Buddha realized. And how is it that we can take up this quest? Buddha’s suffering and confusion was exactly the same as ours; thus our liberation is exactly Buddha’s. Without us\, no liberation. Without Buddha\, no liberation.   \n\n\n\nPlease join together for this silent week in which we will support each other in touching the depth of suffering and the depth of release. \n\n\n\nRetreat Leaders \n\n\n\nRev. Kyoku Tracey Walen was ordained in 2008 and given Dharma transmission by Byakuren Judith Ragir in 2015. Her training included three years at Great Vow Zen Monastery and study with Thich Nhat Hanh at Plum Village. She lives at Hokyoji where she is a staff member and is also a teacher at Clouds in Water Zen Center in St. Paul\, Minnesota. \n\n\n\nRev. Myo-O Habermas-Scher practiced with Katagiri Roshi from 1975 until his death in 1990; she also trained for twelve years in the Vipassana tradition. She received Dharma transmission in 2012 from Dokai at Hokyoji. Myo-O is a master movement teacher and teaches somatically based vocal training. In 2021 she retired after fourteen years as an interfaith staff chaplain at the University of Minnesota Medical Center\, MHealth Fairview. She is also a mom and a grandmother to two little grandsons. \n\n\n\nDetails \n\n\n\nIn-person and Zoom options are available. If you choose the Zoom option\, we ask that you commit to the full sesshin schedule.  \n\n\n\nPlease help us maintain a healthy practice environment by observing Hokyoji’s Covid Guidelines.
URL:https://hokyoji.org/event/hokyojis-rohatsu-sesshin/
END:VEVENT
END:VCALENDAR