BEGIN:VCALENDAR
VERSION:2.0
PRODID:-//Hokyoji - ECPv6.15.20//NONSGML v1.0//EN
CALSCALE:GREGORIAN
METHOD:PUBLISH
X-WR-CALNAME:Hokyoji
X-ORIGINAL-URL:https://hokyoji.org
X-WR-CALDESC:Events for Hokyoji
REFRESH-INTERVAL;VALUE=DURATION:PT1H
X-Robots-Tag:noindex
X-PUBLISHED-TTL:PT1H
BEGIN:VTIMEZONE
TZID:America/Chicago
BEGIN:DAYLIGHT
TZOFFSETFROM:-0600
TZOFFSETTO:-0500
TZNAME:CDT
DTSTART:20230312T080000
END:DAYLIGHT
BEGIN:STANDARD
TZOFFSETFROM:-0500
TZOFFSETTO:-0600
TZNAME:CST
DTSTART:20231105T070000
END:STANDARD
BEGIN:DAYLIGHT
TZOFFSETFROM:-0600
TZOFFSETTO:-0500
TZNAME:CDT
DTSTART:20240310T080000
END:DAYLIGHT
BEGIN:STANDARD
TZOFFSETFROM:-0500
TZOFFSETTO:-0600
TZNAME:CST
DTSTART:20241103T070000
END:STANDARD
BEGIN:DAYLIGHT
TZOFFSETFROM:-0600
TZOFFSETTO:-0500
TZNAME:CDT
DTSTART:20250309T080000
END:DAYLIGHT
BEGIN:STANDARD
TZOFFSETFROM:-0500
TZOFFSETTO:-0600
TZNAME:CST
DTSTART:20251102T070000
END:STANDARD
END:VTIMEZONE
BEGIN:VEVENT
DTSTART;TZID=America/Chicago:20240526T160000
DTEND;TZID=America/Chicago:20240602T093000
DTSTAMP:20260424T150007
CREATED:20240123T185057Z
LAST-MODIFIED:20240229T020116Z
UID:6402-1716739200-1717320600@hokyoji.org
SUMMARY:Just Sitting Retreat
DESCRIPTION:Please join us in an evolving retreat format—an experiment in dedicated mindful meditation within an environment of deep silence.  A sitting schedule and silence are the bones of the retreat. There are no services\, dharma talks\, interviews with a teacher\, formal meals or work periods.Meals\, silence\, sitting and sleep are the support for individual and collective mindful practice. That said\, participants are free to practice as they see fit\, augmenting their day with walks\, naps\, bird watching\, botanizing\, looking…meeting one’s needs mindfully as retreat activity. \n\n\n\n \n\n\n\nAll participants should have experience sitting multi-day mindfulness retreats or sesshins. Please review the proposed schedule. \n\n\n\nVegetarian meals.  \n\n\n\n\nAccommodations are single rooms unless a double is requested. \n\n\n\n\n• Financial considerations should not be an obstacle.  If the cost seems a barrier\, please contact one of us (below).• If you are considering less than the full retreat\, please contact one of us (below).For further information and questions\, contact Lee (leestevenlewis@gmail.com) or Bill (bftresch@hotmail.com). \n\n\n\nCostsFull retreat (6+ days/7nights)   $590 \n\n\n\nProposed Schedule \n\n\n\nSunday May 266:00 – dinner7:00 – sitting7:30 – orientation8:00 – sitting8:30 – end of day \n\n\n\nMonday thru Saturday7:00 – sitting7:30 – recitation7:35 – break8:00 – breakfast9:00 – sitting9:30 – walking9:45  – sitting10:15 – break10:45 – sitting11:15 – walking11:30 – sitting12:00 – lunch \n\n\n\n2:00 – sitting2:30 – walking2:45 – sitting3:15 – tea break4:00 – sitting4:30 – walking4:45 – sitting5:15 – dinner \n\n\n\n7:00 – sitting7:30 – walking8:00 – sitting8:30 – end of day \n\n\n\nSunday\, June 27:00 – sitting7:30 – walking7:45 – sitting8:15 – recitation8:20 – breakfast9:00 – wrap up group conversation \n\n\n\n9:30 – clean up and depart
URL:https://hokyoji.org/event/just-sitting-retreat-2/
END:VEVENT
BEGIN:VEVENT
DTSTART;TZID=America/Chicago:20240609T130000
DTEND;TZID=America/Chicago:20240616T130000
DTSTAMP:20260424T150007
CREATED:20240209T213403Z
LAST-MODIFIED:20240209T213403Z
UID:6803-1717938000-1718542800@hokyoji.org
SUMMARY:Mahakala Radio Retreat
DESCRIPTION:Bodhisattvas are motivated by far-reaching prayers born of Wisdom.  With no obstacles clouding their mind\, they are free of fear and delusion.  What can the insight and prayers of Bodhisattvas teach us?  In this retreat we will practice methods that arouse the heart and dream-like ways out of the muddle. Please join us in the shelter of retreat in the refuge of Sangha united in purpose. Come put into practice the impossible prayers that Bodhisattvas know to be true.
URL:https://hokyoji.org/event/mahakala-radio-retreat/
END:VEVENT
BEGIN:VEVENT
DTSTART;TZID=America/Chicago:20240619T160000
DTEND;TZID=America/Chicago:20240623T130000
DTSTAMP:20260424T150007
CREATED:20240210T180727Z
LAST-MODIFIED:20240217T223608Z
UID:6806-1718812800-1719147600@hokyoji.org
SUMMARY:Practicing the Way in this Very Moment
DESCRIPTION:Dogen’s essay “Instructions for the Cook” helps us to explore the profound preciousness of our daily lives. How do we nourish ourselves and all beings in all the hubbub? How can we help others using our past conditioning and present situation? \n\n\n\nIn this retreat\, we well sit zazen\, engage in discussion\, meet with the teacher\, build community and eat together. Our practice is a time to be together. We welcome everyone into this community. \n\n\n\nOur retreat will be led by Onryu Kennedy\, and co-faciltated by Genjo Conway\, Rachel Seiren Vilsack\, Adam Isshin Kokotovich and Dan JunKan Mattimiro. \n\n\n\nQuestions we’ll invite each other to consider: \n\n\n\n\nWhat is the relatability of this text to our lived experience?\n\n\n\nHow do we embody the understanding of the Tenzo Kyokun in our lived experience with family\, friends\, community and the world?\n\n\n\nHow can we encounter everything and everyone in our lives with joy\, wisdom and compassion?
URL:https://hokyoji.org/event/practicing-the-way-in-this-very-moment-2/
END:VEVENT
END:VCALENDAR