BEGIN:VCALENDAR
VERSION:2.0
PRODID:-//Hokyoji - ECPv6.15.20//NONSGML v1.0//EN
CALSCALE:GREGORIAN
METHOD:PUBLISH
X-WR-CALNAME:Hokyoji
X-ORIGINAL-URL:https://hokyoji.org
X-WR-CALDESC:Events for Hokyoji
REFRESH-INTERVAL;VALUE=DURATION:PT1H
X-Robots-Tag:noindex
X-PUBLISHED-TTL:PT1H
BEGIN:VTIMEZONE
TZID:America/Chicago
BEGIN:DAYLIGHT
TZOFFSETFROM:-0600
TZOFFSETTO:-0500
TZNAME:CDT
DTSTART:20230312T080000
END:DAYLIGHT
BEGIN:STANDARD
TZOFFSETFROM:-0500
TZOFFSETTO:-0600
TZNAME:CST
DTSTART:20231105T070000
END:STANDARD
BEGIN:DAYLIGHT
TZOFFSETFROM:-0600
TZOFFSETTO:-0500
TZNAME:CDT
DTSTART:20240310T080000
END:DAYLIGHT
BEGIN:STANDARD
TZOFFSETFROM:-0500
TZOFFSETTO:-0600
TZNAME:CST
DTSTART:20241103T070000
END:STANDARD
BEGIN:DAYLIGHT
TZOFFSETFROM:-0600
TZOFFSETTO:-0500
TZNAME:CDT
DTSTART:20250309T080000
END:DAYLIGHT
BEGIN:STANDARD
TZOFFSETFROM:-0500
TZOFFSETTO:-0600
TZNAME:CST
DTSTART:20251102T070000
END:STANDARD
END:VTIMEZONE
BEGIN:VEVENT
DTSTART;TZID=America/Chicago:20240826T160000
DTEND;TZID=America/Chicago:20240902T130000
DTSTAMP:20260424T104004
CREATED:20240608T192559Z
LAST-MODIFIED:20240608T192559Z
UID:7177-1724688000-1725282000@hokyoji.org
SUMMARY:Compassionate Ocean Zen Center
DESCRIPTION:https://www.oceanzen.org
URL:https://hokyoji.org/event/compassionate-ocean-zen-center-2/
END:VEVENT
BEGIN:VEVENT
DTSTART;TZID=America/Chicago:20240912T080000
DTEND;TZID=America/Chicago:20240915T170000
DTSTAMP:20260424T104004
CREATED:20240730T173006Z
LAST-MODIFIED:20240826T153013Z
UID:7346-1726128000-1726419600@hokyoji.org
SUMMARY:Loring Group Retreat
DESCRIPTION:
URL:https://hokyoji.org/event/loring-group-retreat/
END:VEVENT
BEGIN:VEVENT
DTSTART;TZID=America/Chicago:20240917T080000
DTEND;TZID=America/Chicago:20240922T170000
DTSTAMP:20260424T104004
CREATED:20240706T223542Z
LAST-MODIFIED:20240706T223542Z
UID:7254-1726560000-1727024400@hokyoji.org
SUMMARY:Minnesota Zen Meditation Center
DESCRIPTION:
URL:https://hokyoji.org/event/minnesota-zen-meditation-center/
END:VEVENT
BEGIN:VEVENT
DTSTART;TZID=America/Chicago:20240926T120000
DTEND;TZID=America/Chicago:20240929T130000
DTSTAMP:20260424T104004
CREATED:20240706T213610Z
LAST-MODIFIED:20240706T213610Z
UID:7252-1727352000-1727614800@hokyoji.org
SUMMARY:The Healing Retreat
DESCRIPTION:Tai Chi & Yoga
URL:https://hokyoji.org/event/the-healing-retreat-3/
END:VEVENT
END:VCALENDAR