BEGIN:VCALENDAR
VERSION:2.0
PRODID:-//Hokyoji - ECPv6.15.20//NONSGML v1.0//EN
CALSCALE:GREGORIAN
METHOD:PUBLISH
X-ORIGINAL-URL:https://hokyoji.org
X-WR-CALDESC:Events for Hokyoji
REFRESH-INTERVAL;VALUE=DURATION:PT1H
X-Robots-Tag:noindex
X-PUBLISHED-TTL:PT1H
BEGIN:VTIMEZONE
TZID:America/Chicago
BEGIN:DAYLIGHT
TZOFFSETFROM:-0600
TZOFFSETTO:-0500
TZNAME:CDT
DTSTART:20230312T080000
END:DAYLIGHT
BEGIN:STANDARD
TZOFFSETFROM:-0500
TZOFFSETTO:-0600
TZNAME:CST
DTSTART:20231105T070000
END:STANDARD
BEGIN:DAYLIGHT
TZOFFSETFROM:-0600
TZOFFSETTO:-0500
TZNAME:CDT
DTSTART:20240310T080000
END:DAYLIGHT
BEGIN:STANDARD
TZOFFSETFROM:-0500
TZOFFSETTO:-0600
TZNAME:CST
DTSTART:20241103T070000
END:STANDARD
BEGIN:DAYLIGHT
TZOFFSETFROM:-0600
TZOFFSETTO:-0500
TZNAME:CDT
DTSTART:20250309T080000
END:DAYLIGHT
BEGIN:STANDARD
TZOFFSETFROM:-0500
TZOFFSETTO:-0600
TZNAME:CST
DTSTART:20251102T070000
END:STANDARD
END:VTIMEZONE
BEGIN:VEVENT
DTSTART;TZID=America/Chicago:20241007T183000
DTEND;TZID=America/Chicago:20241111T200000
DTSTAMP:20260424T085902
CREATED:20240829T214740Z
LAST-MODIFIED:20240904T194456Z
UID:7427-1728325800-1731355200@hokyoji.org
SUMMARY:Jijuyu Zanmai Six Week Online Study Group (Commentary by Menzan Zuiho)
DESCRIPTION:You are invited to study Jijuyu Zanmai\, written by Menzan Zuiho\, with us.  This commentary is a guide offering us ways to pivot towards a more peaceful way of living. \n\n\n\nThe practice of  zazen supports us showing up in our lives with compassion and wisdom. This includes our karmic consciousness\, our relationship to each other and the larger community. \n\n\n\nWe will have opportunities to read\, reflect\, exchange views\, and share our real time experiences of this essential teaching. \n\n\n\nWe welcome everyone into this circle of study. \n\n\n\nSuggested dana for this offering is $60.00.  No one is turned away.
URL:https://hokyoji.org/event/jijuyu-zanmai-online-study-group-commentary-by-menzan-zuiho/
END:VEVENT
BEGIN:VEVENT
DTSTART;TZID=America/Chicago:20241017T080000
DTEND;TZID=America/Chicago:20241020T170000
DTSTAMP:20260424T085902
CREATED:20240614T200222Z
LAST-MODIFIED:20241012T181806Z
UID:7189-1729152000-1729443600@hokyoji.org
SUMMARY:Fall Caring for the Land/Work Weekend
DESCRIPTION:When the weather begins to change\, it’s time to take care of Hokyoji and prepare it for the season ahead. Fall means putting things away for a time of rest and caring for the land: clearing trails\, brush\, and deadfall\, reducing invasive plants\, or planting new growth. Work days include morning and evening sitting practice\, communal meals\, and a variety of work projects\, both indoors and out. In addition to being a terrific opportunity for mindful activity\, it’s a good chance to visit Hokyoji\, meet others in the community\, and get to know what happens here.
URL:https://hokyoji.org/event/fall-caring-for-the-land-work-weekend/
END:VEVENT
BEGIN:VEVENT
DTSTART;TZID=America/Chicago:20241022T160000
DTEND;TZID=America/Chicago:20241027T130000
DTSTAMP:20260424T085902
CREATED:20240626T212225Z
LAST-MODIFIED:20240626T215639Z
UID:7216-1729612800-1730034000@hokyoji.org
SUMMARY:Just Sitting Retreat - Fall 2024
DESCRIPTION:Please join us in an evolving retreat format\, an experiment in dedicated mindful meditation within an environment of deep silence.  A sitting schedule and silence are the bones of the retreat.  There will be no services\, no chanting\, no dharma talks\, no interviews with a teacher\, no formal meals\, no work periods.  Meals\, silence\, sitting and sleep will be the support for individual and collective mindful practice.  That said\, participants are free to practice as they see fit\, augmenting their day with walks\, naps\, bird watching\, botanizing\, looking…meeting one’s needs mindfully as retreat activity. \n\n\n\nAll participants should have experienced multi-day mindfulness retreats or sesshins. \n\n\n\nMeals and a private room will be provided. Please register by Oct.18 \n\n\n\nFor further information and questions\, contact Lee (leestevenlewis@gmail.com) or Bill (bftresch@hotmail.com).
URL:https://hokyoji.org/event/just-sitting-retreat-fall-2024/
END:VEVENT
END:VCALENDAR