BEGIN:VCALENDAR
VERSION:2.0
PRODID:-//Hokyoji - ECPv6.15.20//NONSGML v1.0//EN
CALSCALE:GREGORIAN
METHOD:PUBLISH
X-WR-CALNAME:Hokyoji
X-ORIGINAL-URL:https://hokyoji.org
X-WR-CALDESC:Events for Hokyoji
REFRESH-INTERVAL;VALUE=DURATION:PT1H
X-Robots-Tag:noindex
X-PUBLISHED-TTL:PT1H
BEGIN:VTIMEZONE
TZID:America/Chicago
BEGIN:DAYLIGHT
TZOFFSETFROM:-0600
TZOFFSETTO:-0500
TZNAME:CDT
DTSTART:20240310T080000
END:DAYLIGHT
BEGIN:STANDARD
TZOFFSETFROM:-0500
TZOFFSETTO:-0600
TZNAME:CST
DTSTART:20241103T070000
END:STANDARD
BEGIN:DAYLIGHT
TZOFFSETFROM:-0600
TZOFFSETTO:-0500
TZNAME:CDT
DTSTART:20250309T080000
END:DAYLIGHT
BEGIN:STANDARD
TZOFFSETFROM:-0500
TZOFFSETTO:-0600
TZNAME:CST
DTSTART:20251102T070000
END:STANDARD
BEGIN:DAYLIGHT
TZOFFSETFROM:-0600
TZOFFSETTO:-0500
TZNAME:CDT
DTSTART:20260308T080000
END:DAYLIGHT
BEGIN:STANDARD
TZOFFSETFROM:-0500
TZOFFSETTO:-0600
TZNAME:CST
DTSTART:20261101T070000
END:STANDARD
END:VTIMEZONE
BEGIN:VEVENT
DTSTART;TZID=America/Chicago:20250501T160000
DTEND;TZID=America/Chicago:20250504T113000
DTSTAMP:20260423T235148
CREATED:20250221T194158Z
LAST-MODIFIED:20250223T214338Z
UID:7812-1746115200-1746358200@hokyoji.org
SUMMARY:True Heart Women's Retreat
DESCRIPTION:Please join us for this year’s True Heart Women’s Retreat led by Kyoku Tracey Walen and Toku Cynthia Scott. \n\n\n\n\n\n\n\nActivities will include silent and guided meditation\, group sharing and discussion\, and individual creative expressions such as writing\, artwork\, and photography. We will enjoy nourishing vegetarian meals\, mindful nature walks and yoga and there will be free time to renew and refresh. \n\n\n\nWe will take up the question: how shall we live this precious life? What is the most important thing? With courage and patience we will quietly explore how we can embrace our own life\, this life\, with joy\, and live with serenity in the midst of chaos. \n\n\n\n\nKyoku Tracey Walen began practicing Buddhism in 1998\, was ordained in 2008\, and given Dharma transmission by Byakuren Judith Ragir in 2015. She trained from 2008-2010 at Great Vow Zen Monastery. Currently she resides at and supports Hokyoji and also serves as a Zen teacher at Clouds in Waters Zen Center in St. Paul\, MN. \n\n\n\n\n\nToku Cynthia Scott leads an online community dedicated to the study and practice of the Metta (Lovingkindness) Sutra and works with students individually. Toku was ordained in 2013 at Dharma Field Zen Center in Minneapolis and received Dharma transmission from Rev. Diane Sojun Martin in 2020. She served as executive director and teacher at Clouds in Water Zen Center in St. Paul from 2019 to 2021. She lives in Minneapolis but escapes to the woods at every opportunity. \n\n\n\n\n \n\n\n\nRegistration fees cover lodging and food. Hokyoji compensates teachers through the dana system. If you would like to contribute\, you may do so before\, at\, or after the retreat. If you would like to donate online\, please click here.
URL:https://hokyoji.org/event/true-heart-womens-retreat/
END:VEVENT
BEGIN:VEVENT
DTSTART;TZID=America/Chicago:20250514T150000
DTEND;TZID=America/Chicago:20250518T120000
DTSTAMP:20260423T235148
CREATED:20250121T203839Z
LAST-MODIFIED:20250121T203839Z
UID:7718-1747234800-1747569600@hokyoji.org
SUMMARY:Minnesota Contemplative Outreach
DESCRIPTION:Contact MCO for more information https://www.minnesotacontemplativeoutreach.org/
URL:https://hokyoji.org/event/minnesota-contemplative-outreach-2/
END:VEVENT
BEGIN:VEVENT
DTSTART;TZID=America/Chicago:20250525T150000
DTEND;TZID=America/Chicago:20250601T120000
DTSTAMP:20260423T235148
CREATED:20250121T203938Z
LAST-MODIFIED:20250207T194448Z
UID:7720-1748185200-1748779200@hokyoji.org
SUMMARY:Just Sitting Retreat
DESCRIPTION:Please join us in an evolving retreat format of mindful meditation within an environment of deepsilence and communty. A sitting schedule and silence are the bones of the retreat. The principlesguiding the retreat are tranquility\, harmony and respect. These principles apply to both ourselves(internally) and to others (externally) through our actions. There are no services\, dharma talks\,interviews with a teacher or work periods. Meals\, silence\, sitting and sleep are the support for ourindividual and collective practice. That said\, participants are free to practice as they see fitaugmenting their day with walks\, naps\, bird watching\, botanizing\, looking…meeting one’s needsmindfully as retreat activity.All participants should have experience sitting multi-day mindfulness retreats or sesshins.Space is limited. Vegetarian meals. \n\n\n\n \n\n\n\nFull retreat (6+ days/7nights)Single occupancy: $679Double occupancy: $583Camping: $457
URL:https://hokyoji.org/event/just-sitting-retreat-3/
END:VEVENT
END:VCALENDAR