BEGIN:VCALENDAR
VERSION:2.0
PRODID:-//Hokyoji - ECPv6.15.20//NONSGML v1.0//EN
CALSCALE:GREGORIAN
METHOD:PUBLISH
X-ORIGINAL-URL:https://hokyoji.org
X-WR-CALDESC:Events for Hokyoji
REFRESH-INTERVAL;VALUE=DURATION:PT1H
X-Robots-Tag:noindex
X-PUBLISHED-TTL:PT1H
BEGIN:VTIMEZONE
TZID:America/Chicago
BEGIN:DAYLIGHT
TZOFFSETFROM:-0600
TZOFFSETTO:-0500
TZNAME:CDT
DTSTART:20240310T080000
END:DAYLIGHT
BEGIN:STANDARD
TZOFFSETFROM:-0500
TZOFFSETTO:-0600
TZNAME:CST
DTSTART:20241103T070000
END:STANDARD
BEGIN:DAYLIGHT
TZOFFSETFROM:-0600
TZOFFSETTO:-0500
TZNAME:CDT
DTSTART:20250309T080000
END:DAYLIGHT
BEGIN:STANDARD
TZOFFSETFROM:-0500
TZOFFSETTO:-0600
TZNAME:CST
DTSTART:20251102T070000
END:STANDARD
BEGIN:DAYLIGHT
TZOFFSETFROM:-0600
TZOFFSETTO:-0500
TZNAME:CDT
DTSTART:20260308T080000
END:DAYLIGHT
BEGIN:STANDARD
TZOFFSETFROM:-0500
TZOFFSETTO:-0600
TZNAME:CST
DTSTART:20261101T070000
END:STANDARD
END:VTIMEZONE
BEGIN:VEVENT
DTSTART;TZID=America/Chicago:20250525T150000
DTEND;TZID=America/Chicago:20250601T120000
DTSTAMP:20260423T223937
CREATED:20250121T203938Z
LAST-MODIFIED:20250207T194448Z
UID:7720-1748185200-1748779200@hokyoji.org
SUMMARY:Just Sitting Retreat
DESCRIPTION:Please join us in an evolving retreat format of mindful meditation within an environment of deepsilence and communty. A sitting schedule and silence are the bones of the retreat. The principlesguiding the retreat are tranquility\, harmony and respect. These principles apply to both ourselves(internally) and to others (externally) through our actions. There are no services\, dharma talks\,interviews with a teacher or work periods. Meals\, silence\, sitting and sleep are the support for ourindividual and collective practice. That said\, participants are free to practice as they see fitaugmenting their day with walks\, naps\, bird watching\, botanizing\, looking…meeting one’s needsmindfully as retreat activity.All participants should have experience sitting multi-day mindfulness retreats or sesshins.Space is limited. Vegetarian meals. \n\n\n\n \n\n\n\nFull retreat (6+ days/7nights)Single occupancy: $679Double occupancy: $583Camping: $457
URL:https://hokyoji.org/event/just-sitting-retreat-3/
END:VEVENT
BEGIN:VEVENT
DTSTART;TZID=America/Chicago:20250601T150000
DTEND;TZID=America/Chicago:20250607T120000
DTSTAMP:20260423T223937
CREATED:20250121T204031Z
LAST-MODIFIED:20250121T204032Z
UID:7722-1748790000-1749297600@hokyoji.org
SUMMARY:Private Event
DESCRIPTION:
URL:https://hokyoji.org/event/private-event/
END:VEVENT
BEGIN:VEVENT
DTSTART;TZID=America/Chicago:20250612T150000
DTEND;TZID=America/Chicago:20250615T110000
DTSTAMP:20260423T223937
CREATED:20250502T121238Z
LAST-MODIFIED:20250502T153855Z
UID:8188-1749740400-1749985200@hokyoji.org
SUMMARY:Loring Group Retreat
DESCRIPTION:
URL:https://hokyoji.org/event/loring-group-retreat-2/
END:VEVENT
BEGIN:VEVENT
DTSTART;TZID=America/Chicago:20250618T150000
DTEND;TZID=America/Chicago:20250622T120000
DTSTAMP:20260423T223937
CREATED:20250121T204515Z
LAST-MODIFIED:20250121T204929Z
UID:7726-1750258800-1750593600@hokyoji.org
SUMMARY:Clouds in Water Retreat with Fish Murphy
DESCRIPTION:Please contact https://www.cloudsinwater.org for more info
URL:https://hokyoji.org/event/clouds-in-water-retreat-fish/
END:VEVENT
BEGIN:VEVENT
DTSTART;TZID=America/Chicago:20250625T150000
DTEND;TZID=America/Chicago:20250629T120000
DTSTAMP:20260423T223937
CREATED:20250121T205122Z
LAST-MODIFIED:20250612T202006Z
UID:7729-1750863600-1751198400@hokyoji.org
SUMMARY:Practicing the Way Retreat - Cancelled
DESCRIPTION:Cancelled \n\n\n\nThe Practicing the Way Retreat has been cancelled. Please join us for Practicing the Ways Retreat in November or please go back to the Calendar to see our other offerings.  \n\n\n\n\n\n\n\n“Therefore flowers fall even though we love them; weeds grow even though we dislike them. Conveying oneself toward all things to carry out practice-enlightenment is delusion. All things coming and carrying out practice-enlightenment through the self is realization.Those who are greatly realize delusions are buddhas. Those who are greatly deluded in realization are living beings. Furthermore\, there are those who attain realization beyond realization and those who are deluded within delusion”.Realizing Genjokoan: The Key To Dogen’s Shobogenzo\, Shohaku OkumuraIn 1233\, Dogen wrote a letter to a lay practitioner spelling out nothing short of the nature of self\, reality\, and practice. Nearly 800 years later\, this Genjokoan is prized as one of Dogen’s most profound and accessible works. It also helps us to explore the profound preciousness of our daily lives.  \n\n\n\nIn this retreat\, we will sit zazen\, engage in discussion on the Genjokoan\, meet with the teacher\, eat together\, and build community. Our practice is a time to be together. And we welcome everyone into this community. \n\n\n\nQuestions we’ll invite each other to consider:• How can we encounter everything and everyone in our lives with joy\, wisdom\, and compassion?• What is the relatability of Genjokoan to our current conditions?• How do we embody the understanding of the Genjokoan in our lived experience with family\, friends\, community\, and the world? \n\n\n\n\n\n \n\n\n\n\n\nRegistration fees cover lodging and food. Hokyoji compensates teachers through the dana system. If you would like to contribute\, you may do so before\, at\, or after the retreat. If you would like to donate online\, please click here.
URL:https://hokyoji.org/event/practicing-the-way-retreat/
END:VEVENT
END:VCALENDAR