BEGIN:VCALENDAR
VERSION:2.0
PRODID:-//Hokyoji - ECPv6.15.20//NONSGML v1.0//EN
CALSCALE:GREGORIAN
METHOD:PUBLISH
X-WR-CALNAME:Hokyoji
X-ORIGINAL-URL:https://hokyoji.org
X-WR-CALDESC:Events for Hokyoji
REFRESH-INTERVAL;VALUE=DURATION:PT1H
X-Robots-Tag:noindex
X-PUBLISHED-TTL:PT1H
BEGIN:VTIMEZONE
TZID:America/Chicago
BEGIN:DAYLIGHT
TZOFFSETFROM:-0600
TZOFFSETTO:-0500
TZNAME:CDT
DTSTART:20250309T080000
END:DAYLIGHT
BEGIN:STANDARD
TZOFFSETFROM:-0500
TZOFFSETTO:-0600
TZNAME:CST
DTSTART:20251102T070000
END:STANDARD
BEGIN:DAYLIGHT
TZOFFSETFROM:-0600
TZOFFSETTO:-0500
TZNAME:CDT
DTSTART:20260308T080000
END:DAYLIGHT
BEGIN:STANDARD
TZOFFSETFROM:-0500
TZOFFSETTO:-0600
TZNAME:CST
DTSTART:20261101T070000
END:STANDARD
BEGIN:DAYLIGHT
TZOFFSETFROM:-0600
TZOFFSETTO:-0500
TZNAME:CDT
DTSTART:20270314T080000
END:DAYLIGHT
BEGIN:STANDARD
TZOFFSETFROM:-0500
TZOFFSETTO:-0600
TZNAME:CST
DTSTART:20271107T070000
END:STANDARD
END:VTIMEZONE
BEGIN:VEVENT
DTSTART;TZID=America/Chicago:20260603T150000
DTEND;TZID=America/Chicago:20260607T100000
DTSTAMP:20260423T120607
CREATED:20260106T194109Z
LAST-MODIFIED:20260225T215559Z
UID:8871-1780498800-1780826400@hokyoji.org
SUMMARY:Private Healing Sound and Yoga Retreat
DESCRIPTION:Reserved for a private retreat.
URL:https://hokyoji.org/event/private-retreat-4/
END:VEVENT
BEGIN:VEVENT
DTSTART;TZID=America/Chicago:20260611T150000
DTEND;TZID=America/Chicago:20260614T100000
DTSTAMP:20260423T120607
CREATED:20260106T194201Z
LAST-MODIFIED:20260415T165247Z
UID:8873-1781190000-1781431200@hokyoji.org
SUMMARY:Loring Park Group Retreat
DESCRIPTION:Please contact Bill Tresch (bftresch@hotmail.com) if you’re interested in attending this retreat.
URL:https://hokyoji.org/event/private-retreat-5/
END:VEVENT
BEGIN:VEVENT
DTSTART;TZID=America/Chicago:20260617T150000
DTEND;TZID=America/Chicago:20260621T160000
DTSTAMP:20260423T120607
CREATED:20260106T194315Z
LAST-MODIFIED:20260225T214840Z
UID:8875-1781708400-1782057600@hokyoji.org
SUMMARY:Practicing the Way Retreat
DESCRIPTION:All Beings are Manifesting Buddha Activity \n\n\n\nCo-lead by Associate Teacher\, Rev. Onryu Kennedy and Rev. Musho Darin Podulke-Smith \n\n\n\nBuddha activity is embodied liberation\, awakening to the living dignity and infinite potential in all beings.  We will explore how Buddhist practices are interpenetrating and manifesting in each moment.  There will be opportunities in this retreat for zazen\, discussion\, dharma talks\, buffet style meals and co-creating communal space. \n\n\n\nThis retreat will be hybrid. The schedule is here: \n\n\n\n\n\n\n\nSuggested reading in preparation for this retreat: \n\n\n\n\nEihei Dogen\, “The Dignified Presence of Acting Buddhas”: http://www.thezensite.com/ZenTeachings/Dogen_Teachings/Shobogenzo/022gyobutsu.pdf\n\n\n\nEihei Dogen\, “The Bodhisattva’s Four Embracing Actions” https://hokyoji.org/wp-content/uploads/2026/02/TheBodhisattvasEmbrace.pdf\n\n\n\nVaclav Havel\, “The Power of the Powerless”: https://mrdivis.yolasite.com/resources/Vaclav%20Havel’s%20Power%20of%20the%20Powerless.pdf\n\n\n\nMartin Luther King Jr.\, “Letter from a Birmingham Jail” https://hokyoji.org/wp-content/uploads/2026/02/1963_mlk_letter.pdf\n\n\n\n\n \n\n\n\nRegistration fees only cover our basic costs. Hokyoji compensates teachers through the dana system. If you would like to contribute\, you may do so before\, at\, or after the retreat. If you would like to donate online\, please click here.
URL:https://hokyoji.org/event/practicing-the-way-retreat-2/
END:VEVENT
BEGIN:VEVENT
DTSTART;TZID=America/Chicago:20260625T150000
DTEND;TZID=America/Chicago:20260628T110000
DTSTAMP:20260423T120607
CREATED:20260322T182738Z
LAST-MODIFIED:20260416T145634Z
UID:9035-1782399600-1782644400@hokyoji.org
SUMMARY:(Re)Boot Summer Camp
DESCRIPTION:Many of us find ourselves swept up in current events\, doom scrolling\, and shitposting…alternating between FOMO and existential dread. We are often anxious or bored and sometimes both at the same time. And while some events are legitimately anxiety provoking\, others are symptoms of the many ways that the modern world has hijacked our biological systems. If our computer acted this way\, we’d reboot it! \n\n\n\nIt’s time to reboot ourselves. \n\n\n\nCome spend some time with us this summer in the beauty of the Driftless region making new friends\, reconnecting with Nature\, and finding ourselves but most importantly just having fun. There will be plenty to do*: \n\n\n\n\nmeditation\n\n\n\nhiking & forest bathing\n\n\n\nbird watching\n\n\n\nstargazing\n\n\n\nmovie night\n\n\n\narts & craftsand not do.\n\n\n\n\n \n\n\n\nSo put your phone away for a few days and join us at Hokyoji for (Re)Boot Summer Camp. \n\n\n\n\n\n\n\n\n\n\n\n\n\n\n\n\n\n\n\n\n\n\n\n\n\n\n\n\n\n\n\n\n\n \n\n\n\n* This is a “rain or shine” retreat. In the case of inclement weather\, alternative activities will be scheduled. Full refunds will be given up to one week before the start of the event. \n\n\n\n\nThis retreat is suitable for those who have not meditated before.\n\n\n\nThis retreat is for adults 18 and over (if you’d be interested in a kids summer camp\, send us a message!).\n\n\n\nSpecific activities are “weather permitting”. We’ll have a back up plan!\n\n\n\nWe are committed to the access to our retreats regardless of economic circumstances. If you need a scholarship to attend\, please contact us. If you would like to make the retreat accessible to others\, please consider a donation at checkout with the comment “Scholarship”.\n\n\n\nAt Hokyoji we compensate our teachers and retreat leaders by the dana system. “Dana” is Sanskrit for “pass the hat”. If you would like to donate online\, you can do so here before\, during\, or after the retreat. You can also donate at the retreat via cash\, check\, or Venmo.\n\n\n\n\n \n\n\n\n(Re)Boot Summer Camp will be led by Rev. Jushin Stephyn Butcher\, Associate Teacher\, assisted by Staff Members Junden Gage Myers and Noah Terpening. You can find out more about them here.
URL:https://hokyoji.org/event/reboot-summer-camp/
END:VEVENT
END:VCALENDAR